BEGIN:VCALENDAR
VERSION:2.0
PRODID:-//Gemeinde Guxhagen - ECPv5.8.1//NONSGML v1.0//EN
CALSCALE:GREGORIAN
METHOD:PUBLISH
X-WR-CALNAME:Gemeinde Guxhagen
X-ORIGINAL-URL:https://guxhagen.de
X-WR-CALDESC:Veranstaltungen für Gemeinde Guxhagen
BEGIN:VTIMEZONE
TZID:Europe/Berlin
BEGIN:DAYLIGHT
TZOFFSETFROM:+0100
TZOFFSETTO:+0200
TZNAME:CEST
DTSTART:20260329T010000
END:DAYLIGHT
BEGIN:STANDARD
TZOFFSETFROM:+0200
TZOFFSETTO:+0100
TZNAME:CET
DTSTART:20261025T010000
END:STANDARD
END:VTIMEZONE
BEGIN:VEVENT
DTSTART;TZID=Europe/Berlin:20260514T080000
DTEND;TZID=Europe/Berlin:20260514T170000
DTSTAMP:20260421T212926
CREATED:20251204T161224Z
LAST-MODIFIED:20260401T071358Z
UID:30212-1778745600-1778778000@guxhagen.de
SUMMARY:11.-16.05.		VdK OV Guxhagen	Jahresfahrt nach Maria Alm im Salzburger Land
DESCRIPTION:
URL:https://guxhagen.de/veranstaltungen/11-16-05-vdk-ov-guxhagenjahresfahrt-nach-maria-alm-im-salzburger-land/
CATEGORIES:Vereine und Verbände
ORGANIZER;CN="VdK":MAILTO:ov-guxhagen@vdk.de
END:VEVENT
END:VCALENDAR