BEGIN:VCALENDAR
VERSION:2.0
PRODID:-//Gemeinde Guxhagen - ECPv5.8.1//NONSGML v1.0//EN
CALSCALE:GREGORIAN
METHOD:PUBLISH
X-WR-CALNAME:Gemeinde Guxhagen
X-ORIGINAL-URL:https://guxhagen.de
X-WR-CALDESC:Veranstaltungen für Gemeinde Guxhagen
BEGIN:VTIMEZONE
TZID:Europe/Berlin
BEGIN:DAYLIGHT
TZOFFSETFROM:+0100
TZOFFSETTO:+0200
TZNAME:CEST
DTSTART:20260329T010000
END:DAYLIGHT
BEGIN:STANDARD
TZOFFSETFROM:+0200
TZOFFSETTO:+0100
TZNAME:CET
DTSTART:20261025T010000
END:STANDARD
END:VTIMEZONE
BEGIN:VEVENT
DTSTART;TZID=Europe/Berlin:20260606T100000
DTEND;TZID=Europe/Berlin:20260606T190000
DTSTAMP:20260425T211349
CREATED:20260217T104957Z
LAST-MODIFIED:20260217T104957Z
UID:30770-1780740000-1780772400@guxhagen.de
SUMMARY:54. Sommerfest Sportplatz Wollrode
DESCRIPTION:
URL:https://guxhagen.de/veranstaltungen/54-sommerfest-sportplatz-wollrode-3/
LOCATION:Sportplatz Wollrode
CATEGORIES:Vereine und Verbände
ORGANIZER;CN="TSV%201912%20Wollrode":MAILTO:tsv1912wollrode@gmail.com
END:VEVENT
END:VCALENDAR