BEGIN:VCALENDAR
VERSION:2.0
PRODID:-//Gemeinde Guxhagen - ECPv5.8.1//NONSGML v1.0//EN
CALSCALE:GREGORIAN
METHOD:PUBLISH
X-WR-CALNAME:Gemeinde Guxhagen
X-ORIGINAL-URL:https://guxhagen.de
X-WR-CALDESC:Veranstaltungen für Gemeinde Guxhagen
BEGIN:VTIMEZONE
TZID:Europe/Berlin
BEGIN:DAYLIGHT
TZOFFSETFROM:+0100
TZOFFSETTO:+0200
TZNAME:CEST
DTSTART:20260329T010000
END:DAYLIGHT
BEGIN:STANDARD
TZOFFSETFROM:+0200
TZOFFSETTO:+0100
TZNAME:CET
DTSTART:20261025T010000
END:STANDARD
END:VTIMEZONE
BEGIN:VEVENT
DTSTART;TZID=Europe/Berlin:20260530T080000
DTEND;TZID=Europe/Berlin:20260530T170000
DTSTAMP:20260426T041123
CREATED:20260401T091707Z
LAST-MODIFIED:20260401T091707Z
UID:31160-1780128000-1780160400@guxhagen.de
SUMMARY:Blechdosenschießen
DESCRIPTION:
URL:https://guxhagen.de/veranstaltungen/blechdosenschiessen/
LOCATION:Feuerwehrhaus Albshausen
CATEGORIES:Vereine und Verbände
ORGANIZER;CN="Sch%C3%BCtzenverein%20Albshausen%201925%20e.%20V.":MAILTO:schuetzen@sv-albshausen.de
END:VEVENT
END:VCALENDAR