BEGIN:VCALENDAR
VERSION:2.0
PRODID:-//Gemeinde Guxhagen - ECPv5.8.1//NONSGML v1.0//EN
CALSCALE:GREGORIAN
METHOD:PUBLISH
X-WR-CALNAME:Gemeinde Guxhagen
X-ORIGINAL-URL:https://guxhagen.de
X-WR-CALDESC:Veranstaltungen für Gemeinde Guxhagen
BEGIN:VTIMEZONE
TZID:Europe/Berlin
BEGIN:DAYLIGHT
TZOFFSETFROM:+0100
TZOFFSETTO:+0200
TZNAME:CEST
DTSTART:20260329T010000
END:DAYLIGHT
BEGIN:STANDARD
TZOFFSETFROM:+0200
TZOFFSETTO:+0100
TZNAME:CET
DTSTART:20261025T010000
END:STANDARD
END:VTIMEZONE
BEGIN:VEVENT
DTSTART;TZID=Europe/Berlin:20260611T143000
DTEND;TZID=Europe/Berlin:20260611T163000
DTSTAMP:20260425T182417
CREATED:20251204T094448Z
LAST-MODIFIED:20260421T092425Z
UID:30184-1781188200-1781195400@guxhagen.de
SUMMARY:Frauentreff mannamia Feinbäckerei
DESCRIPTION:
URL:https://guxhagen.de/veranstaltungen/frauentreff-mannamia-feinbaeckerei-4/
LOCATION:(mannamia) Feinbäckerei Ruch GmbH\, Zur Mühle 8\, Edermünde\, Hessen\, 34295\, Deutschland
CATEGORIES:Frauentreff
ORGANIZER;CN="VdK":MAILTO:ov-guxhagen@vdk.de
END:VEVENT
END:VCALENDAR