BEGIN:VCALENDAR
VERSION:2.0
PRODID:-//Gemeinde Guxhagen - ECPv5.8.1//NONSGML v1.0//EN
CALSCALE:GREGORIAN
METHOD:PUBLISH
X-WR-CALNAME:Gemeinde Guxhagen
X-ORIGINAL-URL:https://guxhagen.de
X-WR-CALDESC:Veranstaltungen für Gemeinde Guxhagen
BEGIN:VTIMEZONE
TZID:Europe/Berlin
BEGIN:DAYLIGHT
TZOFFSETFROM:+0100
TZOFFSETTO:+0200
TZNAME:CEST
DTSTART:20260329T010000
END:DAYLIGHT
BEGIN:STANDARD
TZOFFSETFROM:+0200
TZOFFSETTO:+0100
TZNAME:CET
DTSTART:20261025T010000
END:STANDARD
END:VTIMEZONE
BEGIN:VEVENT
DTSTART;TZID=Europe/Berlin:20260414T080000
DTEND;TZID=Europe/Berlin:20260414T170000
DTSTAMP:20260420T050220
CREATED:20251204T161057Z
LAST-MODIFIED:20251204T161057Z
UID:30210-1776153600-1776186000@guxhagen.de
SUMMARY:VdK OV Guxhagen Tagesfahrt
DESCRIPTION:
URL:https://guxhagen.de/veranstaltungen/vdk-ov-guxhagen-tagesfahrt/
CATEGORIES:Vereine und Verbände
ORGANIZER;CN="VdK":MAILTO:ov-guxhagen@vdk.de
END:VEVENT
BEGIN:VEVENT
DTSTART;TZID=Europe/Berlin:20260414T080000
DTEND;TZID=Europe/Berlin:20260415T170000
DTSTAMP:20260420T050220
CREATED:20260119T142221Z
LAST-MODIFIED:20260119T142236Z
UID:30434-1776153600-1776272400@guxhagen.de
SUMMARY:Leerung Klärgruben Wochenendgebiete 2026
DESCRIPTION:
URL:https://guxhagen.de/veranstaltungen/leerung-klaergruben-wochenendgebiete-2026-2/
CATEGORIES:Termine der Klärgrubenleerungen in den Wochenendgebieten
END:VEVENT
BEGIN:VEVENT
DTSTART;TZID=Europe/Berlin:20260417T190000
DTEND;TZID=Europe/Berlin:20260417T200000
DTSTAMP:20260420T050220
CREATED:20260331T133231Z
LAST-MODIFIED:20260331T133231Z
UID:31107-1776452400-1776456000@guxhagen.de
SUMMARY:Jahreshauptversammlung
DESCRIPTION:
URL:https://guxhagen.de/veranstaltungen/jahreshauptversammlung/
LOCATION:Schützen- und Feuerwehrhaus Grebenau\, Fischerweg 1\, Guxhagen\, 34302
CATEGORIES:Vereine und Verbände
ORGANIZER;CN="Sch%C3%BCtzenverein%201933%20Grebenau%20e.V.":MAILTO:frankdoeri@t-online.de
END:VEVENT
BEGIN:VEVENT
DTSTART;TZID=Europe/Berlin:20260419T100000
DTEND;TZID=Europe/Berlin:20260419T120000
DTSTAMP:20260420T050220
CREATED:20260216T142859Z
LAST-MODIFIED:20260217T095457Z
UID:30723-1776592800-1776600000@guxhagen.de
SUMMARY:Konfirmation Ellenberg
DESCRIPTION:
URL:https://guxhagen.de/veranstaltungen/konfirmation-ellenberg/
LOCATION:Kirche Ellenberg\, Brunslarer Str.\, Guxhagen\, Hessen\, 3402
CATEGORIES:Konfirmation
END:VEVENT
BEGIN:VEVENT
DTSTART;TZID=Europe/Berlin:20260419T100000
DTEND;TZID=Europe/Berlin:20260419T120000
DTSTAMP:20260420T050220
CREATED:20260216T142953Z
LAST-MODIFIED:20260216T142953Z
UID:30725-1776592800-1776600000@guxhagen.de
SUMMARY:Konfirmation Grebenau
DESCRIPTION:
URL:https://guxhagen.de/veranstaltungen/konfirmation-grebenau/
LOCATION:Kirche Grebenau\, Fuldatalstraße\, Guxhagen\, Hessen\, 34302
CATEGORIES:Konfirmation
END:VEVENT
BEGIN:VEVENT
DTSTART;TZID=Europe/Berlin:20260422T143000
DTEND;TZID=Europe/Berlin:20260422T170000
DTSTAMP:20260420T050220
CREATED:20260108T114030Z
LAST-MODIFIED:20260108T114103Z
UID:30358-1776868200-1776877200@guxhagen.de
SUMMARY:Seniorennachmittag Grebenau
DESCRIPTION:
URL:https://guxhagen.de/veranstaltungen/seniorennachmittag-grebenau-3/
LOCATION:Feuerwehrhaus/Versammlungsraum FFW Grebenau\, Fischerweg 1\, Guxhagen -Grebenau\, 34302
CATEGORIES:Vereine und Verbände
END:VEVENT
BEGIN:VEVENT
DTSTART;TZID=Europe/Berlin:20260423T170000
DTEND;TZID=Europe/Berlin:20260423T190000
DTSTAMP:20260420T050220
CREATED:20260331T133616Z
LAST-MODIFIED:20260331T133616Z
UID:31109-1776963600-1776970800@guxhagen.de
SUMMARY:Musical AG Grundschule Guxhagen "Die kleinen Leute von Swabedoo"
DESCRIPTION:
URL:https://guxhagen.de/veranstaltungen/musical-ag-grundschule-guxhagen-die-kleinen-leute-von-swabedoo/
LOCATION:Grundschule\, Schöne Aussicht\, Guxhagen\, Hessen\, 34302
CATEGORIES:Schulen
ORGANIZER;CN="Grundschule%20Guxhagen":MAILTO:poststelle@g.guxhagen.schulverwaltung.hessen.de
END:VEVENT
BEGIN:VEVENT
DTSTART;TZID=Europe/Berlin:20260423T180000
DTEND;TZID=Europe/Berlin:20260423T230000
DTSTAMP:20260420T050220
CREATED:20260310T134732Z
LAST-MODIFIED:20260310T134748Z
UID:30955-1776967200-1776985200@guxhagen.de
SUMMARY:Vortrag von Prof. Johannes Schilling über 500 Jahre Reformation
DESCRIPTION:
URL:https://guxhagen.de/veranstaltungen/vortrag-von-prof-johannes-schilling-ueber-500-jahre-reformation/
LOCATION:Klosterkirche Breitenau\, Brückenstr. 12\, Guxhagen\, Hessen\, 34302
CATEGORIES:Kirche
END:VEVENT
BEGIN:VEVENT
DTSTART;TZID=Europe/Berlin:20260425T190000
DTEND;TZID=Europe/Berlin:20260425T210000
DTSTAMP:20260420T050220
CREATED:20260414T122510Z
LAST-MODIFIED:20260414T122636Z
UID:31191-1777143600-1777150800@guxhagen.de
SUMMARY:Einladung zur Jahreshauptversammlung
DESCRIPTION:
URL:https://guxhagen.de/veranstaltungen/einladung-zur-jahreshauptversammlung/
LOCATION:Feuerwehrhaus Albshausen
CATEGORIES:Feuerwehren
END:VEVENT
BEGIN:VEVENT
DTSTART;TZID=Europe/Berlin:20260427T193000
DTEND;TZID=Europe/Berlin:20260427T213000
DTSTAMP:20260420T050220
CREATED:20260401T063503Z
LAST-MODIFIED:20260414T122753Z
UID:31112-1777318200-1777325400@guxhagen.de
SUMMARY:Jahreshauptversammlung
DESCRIPTION:
URL:https://guxhagen.de/veranstaltungen/jahreshauptversammlung-2/
LOCATION:Gasthaus Hartung\, Zum Bruch 1\, Guxhagen\, 34302
CATEGORIES:Vereine und Verbände
END:VEVENT
BEGIN:VEVENT
DTSTART;TZID=Europe/Berlin:20260430T140000
DTEND;TZID=Europe/Berlin:20260430T160000
DTSTAMP:20260420T050220
CREATED:20260127T142403Z
LAST-MODIFIED:20260327T084216Z
UID:30525-1777557600-1777564800@guxhagen.de
SUMMARY:Seniorennachmittag Guxhagen im Gemeindehaus
DESCRIPTION:
URL:https://guxhagen.de/veranstaltungen/kaffeetrinken-fuer-senioren-im-gemeindehaus-3/
LOCATION:Ev. Gemeindehaus\, Schiffstatt 1\, Guxhagen\, Hessen\, 34302
CATEGORIES:Senoirenbeirat
END:VEVENT
BEGIN:VEVENT
DTSTART;TZID=Europe/Berlin:20260430T140000
DTEND;TZID=Europe/Berlin:20260430T160000
DTSTAMP:20260420T050220
CREATED:20260310T134933Z
LAST-MODIFIED:20260310T134933Z
UID:30957-1777557600-1777564800@guxhagen.de
SUMMARY:Schutzfrau vor Ort Katja Gröbner
DESCRIPTION:Offene Sprechstunde für Bürger\, Gemeindeverwaltung Zum Ehrenhain 2 Dachgeschoss
URL:https://guxhagen.de/veranstaltungen/schutzfrau-vor-ort-katja-groebner/
LOCATION:Gemeindeverwaltung Guxhagen\, Zum Ehrenhain 2\, Guxhagen\, 34302
CATEGORIES:Sonstiges
END:VEVENT
END:VCALENDAR